BEGIN:VCALENDAR
VERSION:2.0
PRODID:-//Jack’s Kids - ECPv6.15.20//NONSGML v1.0//EN
CALSCALE:GREGORIAN
METHOD:PUBLISH
X-ORIGINAL-URL:https://jackskids.org
X-WR-CALDESC:Events for Jack’s Kids
REFRESH-INTERVAL;VALUE=DURATION:PT1H
X-Robots-Tag:noindex
X-PUBLISHED-TTL:PT1H
BEGIN:VTIMEZONE
TZID:America/New_York
BEGIN:DAYLIGHT
TZOFFSETFROM:-0500
TZOFFSETTO:-0400
TZNAME:EDT
DTSTART:20250309T070000
END:DAYLIGHT
BEGIN:STANDARD
TZOFFSETFROM:-0400
TZOFFSETTO:-0500
TZNAME:EST
DTSTART:20251102T060000
END:STANDARD
BEGIN:DAYLIGHT
TZOFFSETFROM:-0500
TZOFFSETTO:-0400
TZNAME:EDT
DTSTART:20260308T070000
END:DAYLIGHT
BEGIN:STANDARD
TZOFFSETFROM:-0400
TZOFFSETTO:-0500
TZNAME:EST
DTSTART:20261101T060000
END:STANDARD
BEGIN:DAYLIGHT
TZOFFSETFROM:-0500
TZOFFSETTO:-0400
TZNAME:EDT
DTSTART:20270314T070000
END:DAYLIGHT
BEGIN:STANDARD
TZOFFSETFROM:-0400
TZOFFSETTO:-0500
TZNAME:EST
DTSTART:20271107T060000
END:STANDARD
END:VTIMEZONE
BEGIN:VEVENT
DTSTART;TZID=America/New_York:20260711T080000
DTEND;TZID=America/New_York:20260711T170000
DTSTAMP:20260421T213350
CREATED:20260324T070920Z
LAST-MODIFIED:20260324T070920Z
UID:10000006-1783756800-1783789200@jackskids.org
SUMMARY:34th Annual Jack Gardner Memorial Softball Tournament
DESCRIPTION:🥎 Jack’s Kids Softball Tournament\nDate: Saturday\, July 11 \nJoin us for the 34th Annual Jack Gardner Memorial Softball Tournament\, the largest fundraiser supporting Jack’s Kids. This community-wide event features over 40 teams and 500+ players competing across Somerset County\, all coming together for a great cause. \nEnjoy a day filled with softball\, camaraderie\, and giving back\, plus: \n\n🎟️ Tricky Tray\n💰 Super 50/50 Raffle\n🍔 Food & refreshments at the Lodge\n\nProceeds benefit the Jack’s Kids families. \nGet involved! Teams\, volunteers\, donations\, and sponsors. \nVisit the Jack’s Kids Softball page for more details!
URL:https://jackskids.org/event/softball/
LOCATION:Somerville Elks Lodge #1068\, 375 Union Ave.\, Bridgewater\, NJ\, 08873\, United States
CATEGORIES:Events
ATTACH;FMTTYPE=image/png:https://jackskids.org/wp-content/uploads/2026/03/Jackskids-Softball-flyer-.png
END:VEVENT
END:VCALENDAR